BEGIN:VCALENDAR
VERSION:2.0
PRODID:-//Triquetra Training Services - ECPv4.9.8//NONSGML v1.0//EN
CALSCALE:GREGORIAN
METHOD:PUBLISH
X-WR-CALNAME:Triquetra Training Services
X-ORIGINAL-URL:https://ttseducation.com.au
X-WR-CALDESC:Events for Triquetra Training Services
BEGIN:VTIMEZONE
TZID:UTC
BEGIN:STANDARD
TZOFFSETFROM:+0000
TZOFFSETTO:+0000
TZNAME:UTC
DTSTART:20200101T000000
END:STANDARD
END:VTIMEZONE
BEGIN:VEVENT
DTSTART;TZID="UTC":20200330T090000
DTEND;TZID="UTC":20200403T160000
DTSTAMP:20200301T174356
CREATED:20200214T061953Z
LAST-MODIFIED:20200214T061953Z
UID:765-1585558800-1585929600@ttseducation.com.au
SUMMARY:Prepare for work in a customer engagement environment
DESCRIPTION: jQuery(function($){ $(".ax-course-details").find("div:empty").hide();jQuery(".ax-course-details").find("div > h2").closest("div").addClass("no-content").find("*:not(h2)\, div").parent("div").removeClass("no-content");jQuery("div.no-content").hide(); });\nPrepare for work in a customer engagement environment   \nBSBCUE205\n\nThis unit describes the skills and knowledge required to participate in customer engagement operations\, including defining the requirements and expectations of the organisation.\n \nIt applies to individuals who perform a range of mainly routine tasks\, using limited practical skills and fundamental operational knowledge\, working under direct supervision.\n \nNo licensing\, legislative or certification requirements apply to this unit at the time of publication.\n \nThis Unit includes the following Elements:\n\n	Relate own role to customer engagement operations\n	Reflect on personal performance\n	Maintain a professional approach to employment\n	Participate in a workplace team\n\nClick here to download the course outline form Training.gov.au\n\nIntroduction:\n\n\n\nTarget Audience:\n\n\n\n\nLearning Outcomes:\n\n\n\nLearning Methods:\n\n\n\nProgram Benefits:\n\n\n\nContent:\n\n\n\n\nName\nDate\nTime\nLocation\nAvailable Spaces\nCost\n\n\n\nEnquire\n\n
URL:https://ttseducation.com.au/event/prepare-for-work-in-a-customer-engagement-environment/
LOCATION:Ballarat Community Health Centre\, Ballarat Community Health Centre\, Australia
CATEGORIES:Workshop
END:VEVENT
END:VCALENDAR